BEGIN:VCALENDAR
VERSION:2.0
PRODID:-//TYPO3/NONSGML Calendarize//EN
BEGIN:VEVENT
UID:calendarize-epicenterconnect-physisch-3-1-1-1-1
DTSTAMP:20240327T153023Z
DTSTART:20241209T163000Z
DTEND:20241209T173000Z
SUMMARY:[Online] epicenter.connect
DESCRIPTION:Das epicenter.connect ist eine Möglichkeit\, die netzpolitisc
 he Community in einem gemütlichen Rahmen kennenzulernen. Du kannst einfac
 h auf ein (virtuelles) Club Mate vorbeikommen und zuhören oder dich aktiv
  einbringen. Wir geben bei den Treffen auch Einblick in Themen und Projekt
 e\, an denen wir momentan arbeiten und freuen uns\, wenn du kommst!\nDiese
 s Treffen findet online statt. Um kurze Anmeldung unter team@epicenter.wor
 ks wird gebeten.\nDu möchtest auch über zukünftige Termine informiert w
 erden? Dann bleib in Kontakt mit unserer offenen Emailliste! Hier bekommst
  du alle Infos zu Treffen\, Aktionen & Co. Wir freuen uns auf einen offene
 n Austausch :)\nAuf der Emailliste und unseren physischen und virtuellen T
 reffen gilt die Hausordnung.
X-ALT-DESC;FMTTYPE=text/html:<p>Das epicenter.connect ist eine Möglichkei
 t\, die netzpolitische Community in einem gemütlichen Rahmen kennenzulern
 en. Du kannst einfach auf ein (virtuelles) Club Mate vorbeikommen und zuhö
 ren oder dich aktiv einbringen. Wir geben bei den Treffen auch Einblick in
  Themen und Projekte\, an denen wir momentan arbeiten und freuen uns\, wen
 n du kommst!</p>\n<p><strong>Dieses Treffen findet online statt. Um kurze 
 Anmeldung unter <a href="mailto:team@epicenter.works">team@epicenter.works
 </a> wird gebeten.</strong></p>\n<p>Du möchtest auch über zukünftige Te
 rmine informiert werden? Dann bleib in Kontakt mit unserer <a href="https:
 //lists.epicenter.works/mailman3/postorius/lists/connect.lists.epicenter.w
 orks/">offenen Emailliste</a>! Hier bekommst du alle Infos zu Treffen\, Ak
 tionen &amp\; Co. Wir freuen uns auf einen offenen Austausch :)</p>\n<p>Au
 f der Emailliste und unseren physischen und virtuellen Treffen gilt die <a
  href="https://epicenter.works/ueber-uns/hausordnung">Hausordnung</a>.</p>
LOCATION:online
END:VEVENT
END:VCALENDAR
