BEGIN:VCALENDAR
VERSION:2.0
PRODID:-//TYPO3/NONSGML Calendarize//EN
BEGIN:VEVENT
UID:calendarize-brussels-digital-euro-an-analysis-of-the-european-unions-d
 igital-currency
DTSTAMP:20260421T115653Z
DTSTART:20260421T080000Z
DTEND:20260421T100000Z
SUMMARY:[Brussels] Digital euro: An analysis of the European Union’s dig
 ital currency
DESCRIPTION:On Tuesday\, ECR MEP Gheorghe Piperea will host an event focus
 ing on the implications of the EU’s proposed digital euro.\nBringing tog
 ether policymakers\, legal experts and financial analysts\, the panel will
  explore key aspects of the initiative including its regulatory framework\
 , economic impact\, data protection considerations\, and potential consequ
 ences for financial markets and citizens. By combining political perspecti
 ves with technical and legal expertise\, the event aims to provide a compr
 ehensive overview of one of the EU’s most significant ongoing financial 
 policy developments.\nWhen: Tuesday @ 10:00–12:00\nWhere: SPINELLI 1H1Sp
 eakers:\nGheorghe Piperea\, ECR MEPGiovanni Crosetto\, ECR Deputy Coordina
 tor for ECONStephan Bartulica\, ECR Shadow Rapporteur for the Digital Euro
  RegulationSebastian Kneidinger\, Policy advisor\, epicentre worksBrendan 
 Van Alsenoy\, Acting Head of Unit\, Policy and Legislative Consultaion\, E
 uropean Data Protection SupervisorCristina-Emanuela Dascălu\, Member of t
 he Romanian ParliamentIrina Chitu\, Economic Analyst\, Vice-President of A
 AFBRDaria Niculcea\, Executive Director\, Judice.roAlina Matei\, Lawyer\, 
 Senior Editor\, Judice.roCarol Tino\, Lawyer
X-ALT-DESC;FMTTYPE=text/html:<p>On Tuesday\, ECR MEP Gheorghe Piperea will
  host an event focusing on the implications of the EU’s proposed digital
  euro.</p>\n<p>Bringing together policymakers\, legal experts and financia
 l analysts\, the panel will explore key aspects of the initiative includin
 g its regulatory framework\, economic impact\, data protection considerati
 ons\, and potential consequences for financial markets and citizens. By co
 mbining political perspectives with technical and legal expertise\, the ev
 ent aims to provide a comprehensive overview of one of the EU’s most sig
 nificant ongoing financial policy developments.</p>\n<p>When: Tuesday @ 10
 :00–12:00</p>\n<p>Where: SPINELLI 1H1<br /><br /><strong>Speakers:</stro
 ng></p>\n<ul><li data-list-item-id="efdc868bd16dc812de5c57376f8a5490e">Ghe
 orghe Piperea\, ECR MEP</li><li data-list-item-id="ec83e9a067e55b68dc828fd
 bb23706362">Giovanni Crosetto\, ECR Deputy Coordinator for ECON</li><li da
 ta-list-item-id="e52faa45d3dbd224dd804cf2d566f979b">Stephan Bartulica\, EC
 R Shadow Rapporteur for the Digital Euro Regulation</li><li data-list-item
 -id="ede7541bf025bb8b52cb316fe2e431d52">Sebastian Kneidinger\, Policy advi
 sor\, epicentre works</li><li data-list-item-id="e68ec63f249b6b3a9c4d6fc88
 37cc7835">Brendan Van Alsenoy\, Acting Head of Unit\, Policy and Legislati
 ve Consultaion\, European Data Protection Supervisor</li><li data-list-ite
 m-id="ee37d156ec5799d9ebfab7340e4d61e17">Cristina-Emanuela Dascălu\, Memb
 er of the Romanian Parliament</li><li data-list-item-id="ec5d99da9561854a8
 b9b95b1fa8df8005">Irina Chitu\, Economic Analyst\, Vice-President of AAFBR
 </li><li data-list-item-id="ef6d9ba312e5fc11c8d6f0c193e8bd61d">Daria Nicul
 cea\, Executive Director\, Judice.ro</li><li data-list-item-id="edd0a1e064
 948ea185f578fcf450b0e7e">Alina Matei\, Lawyer\, Senior Editor\, Judice.ro<
 /li><li data-list-item-id="e4181e735b72b40541134485c4a96da00">Carol Tino\,
  Lawyer</li></ul>
LOCATION:European Parliament\, Room ASP 1H1 (https://www.europarl.europa.e
 u/portal/en)
END:VEVENT
END:VCALENDAR
